BEGIN:VCALENDAR
VERSION:2.0
PRODID:-//Nevada Capital Readiness Program - ECPv6.15.20//NONSGML v1.0//EN
CALSCALE:GREGORIAN
METHOD:PUBLISH
X-WR-CALNAME:Nevada Capital Readiness Program
X-ORIGINAL-URL:https://nvcapitalreadiness.org
X-WR-CALDESC:Events for Nevada Capital Readiness Program
REFRESH-INTERVAL;VALUE=DURATION:PT1H
X-Robots-Tag:noindex
X-PUBLISHED-TTL:PT1H
BEGIN:VTIMEZONE
TZID:America/Los_Angeles
BEGIN:DAYLIGHT
TZOFFSETFROM:-0800
TZOFFSETTO:-0700
TZNAME:PDT
DTSTART:20230312T100000
END:DAYLIGHT
BEGIN:STANDARD
TZOFFSETFROM:-0700
TZOFFSETTO:-0800
TZNAME:PST
DTSTART:20231105T090000
END:STANDARD
BEGIN:DAYLIGHT
TZOFFSETFROM:-0800
TZOFFSETTO:-0700
TZNAME:PDT
DTSTART:20240310T100000
END:DAYLIGHT
BEGIN:STANDARD
TZOFFSETFROM:-0700
TZOFFSETTO:-0800
TZNAME:PST
DTSTART:20241103T090000
END:STANDARD
BEGIN:DAYLIGHT
TZOFFSETFROM:-0800
TZOFFSETTO:-0700
TZNAME:PDT
DTSTART:20250309T100000
END:DAYLIGHT
BEGIN:STANDARD
TZOFFSETFROM:-0700
TZOFFSETTO:-0800
TZNAME:PST
DTSTART:20251102T090000
END:STANDARD
END:VTIMEZONE
BEGIN:VEVENT
DTSTART;TZID=America/Los_Angeles:20240312T150000
DTEND;TZID=America/Los_Angeles:20240312T160000
DTSTAMP:20260419T181848
CREATED:20240311T080431Z
LAST-MODIFIED:20240311T081505Z
UID:10000091-1710255600-1710259200@nvcapitalreadiness.org
SUMMARY:Nevada Contractors Association - Diverse Contractor's Council
DESCRIPTION:Join us for our monthly Diverse Contractors Council Meeting! \nMeeting Sponsorship (1 available per meeting)- includes 5 minutes of presentation time at the monthly meeting in addition to marketing and advertisement leading up to the monthly meeting. Thank you to our March Meeting Sponsor- Live Electric! \n \n  \n 
URL:https://nvcapitalreadiness.org/event/nevada-contractors-association-diverse-contractors-council/
LOCATION:Nevada Contractors Association\, 150 N Durango Dr\, Las Vegas\, NV\, 89145\, United States
ATTACH;FMTTYPE=image/png:https://nvcapitalreadiness.org/wp-content/uploads/2024/03/nca-logo-2021.png
END:VEVENT
END:VCALENDAR