BEGIN:VCALENDAR
VERSION:2.0
PRODID:-//Nevada Capital Readiness Program - ECPv6.15.20//NONSGML v1.0//EN
CALSCALE:GREGORIAN
METHOD:PUBLISH
X-WR-CALNAME:Nevada Capital Readiness Program
X-ORIGINAL-URL:https://nvcapitalreadiness.org
X-WR-CALDESC:Events for Nevada Capital Readiness Program
REFRESH-INTERVAL;VALUE=DURATION:PT1H
X-Robots-Tag:noindex
X-PUBLISHED-TTL:PT1H
BEGIN:VTIMEZONE
TZID:America/Los_Angeles
BEGIN:DAYLIGHT
TZOFFSETFROM:-0800
TZOFFSETTO:-0700
TZNAME:PDT
DTSTART:20250309T100000
END:DAYLIGHT
BEGIN:STANDARD
TZOFFSETFROM:-0700
TZOFFSETTO:-0800
TZNAME:PST
DTSTART:20251102T090000
END:STANDARD
BEGIN:DAYLIGHT
TZOFFSETFROM:-0800
TZOFFSETTO:-0700
TZNAME:PDT
DTSTART:20260308T100000
END:DAYLIGHT
BEGIN:STANDARD
TZOFFSETFROM:-0700
TZOFFSETTO:-0800
TZNAME:PST
DTSTART:20261101T090000
END:STANDARD
BEGIN:DAYLIGHT
TZOFFSETFROM:-0800
TZOFFSETTO:-0700
TZNAME:PDT
DTSTART:20270314T100000
END:DAYLIGHT
BEGIN:STANDARD
TZOFFSETFROM:-0700
TZOFFSETTO:-0800
TZNAME:PST
DTSTART:20271107T090000
END:STANDARD
END:VTIMEZONE
BEGIN:VEVENT
DTSTART;TZID=America/Los_Angeles:20260505T080000
DTEND;TZID=America/Los_Angeles:20260506T170000
DTSTAMP:20260420T150138
CREATED:20260420T175650Z
LAST-MODIFIED:20260420T175906Z
UID:10000981-1777968000-1778086800@nvcapitalreadiness.org
SUMMARY:National Small Business Week Virtual Summit
DESCRIPTION:National Small Business Week Virtual Summit\, hosted by the U.S. Small Business Administration and cohosted by America’s SBDC. We’re thrilled you’re here! To access the live sessions on May 5–6\, please register now to secure your spot. You’ll receive login credentials via email — save these\, as you’ll need them to enter the virtual platform on event days. \n  \nPresentation topics include: \n\nProtecting Your Business from Risk and Fraud – Presented by Visa\nAccess to Capital: Closing the Small Business Gap – Presented by Visa\nReclaim Your Time: Make AI Work for You – Presented by Google\nGetting Ahead with AI: Google Coaches Share Their Favorite Tips – Presented by Google\nRethinking Connectivity for 2026 – Presented by T-Mobile\nBuilt to Stay Open: The New Standard for Business Continuity – Presented by T-Mobile\nStart Smart\, Stay Smart: The New Rules for Starting a Business – Presented by America’s SBDC\nVideo 101 for Small Business: How to Capture Professional Content Using What You Already Have – Presented by America’s SBDC\nMake Onshoring Great Again: A Blueprint for Small Business Manufacturing – Presented by SBA\nBecoming Bankable: What Makes You a “Triple Threat” for Loans\, Deposits\, and Growth – Presented by Grasshopper Bank\nBeyond the Storefront: Smart Strategies for Small Business Growth – Presented by Amazon\nHiring Secrets: Staff Up Smart & Fast – Presented by Paychex\nCompensation & Equity Trends 2026: What Smart Leaders Must Act on Now – Presented by TriNet\nHow to Win Your Next Contract: Write stronger proposals\, stand out\, and win more bids- Presented by Verizon
URL:https://nvcapitalreadiness.org/event/national-small-business-week-virtual-summit-2/2026-05-05/
ATTACH;FMTTYPE=image/png:https://nvcapitalreadiness.org/wp-content/uploads/2026/04/Screenshot-2026-04-20-at-10.52.36-AM-scaled.png
END:VEVENT
BEGIN:VEVENT
DTSTART;TZID=America/Los_Angeles:20260506T080000
DTEND;TZID=America/Los_Angeles:20260506T170000
DTSTAMP:20260420T150138
CREATED:20260420T175650Z
LAST-MODIFIED:20260420T175906Z
UID:10000982-1778054400-1778086800@nvcapitalreadiness.org
SUMMARY:National Small Business Week Virtual Summit
DESCRIPTION:National Small Business Week Virtual Summit\, hosted by the U.S. Small Business Administration and cohosted by America’s SBDC. We’re thrilled you’re here! To access the live sessions on May 5–6\, please register now to secure your spot. You’ll receive login credentials via email — save these\, as you’ll need them to enter the virtual platform on event days. \n  \nPresentation topics include: \n\nProtecting Your Business from Risk and Fraud – Presented by Visa\nAccess to Capital: Closing the Small Business Gap – Presented by Visa\nReclaim Your Time: Make AI Work for You – Presented by Google\nGetting Ahead with AI: Google Coaches Share Their Favorite Tips – Presented by Google\nRethinking Connectivity for 2026 – Presented by T-Mobile\nBuilt to Stay Open: The New Standard for Business Continuity – Presented by T-Mobile\nStart Smart\, Stay Smart: The New Rules for Starting a Business – Presented by America’s SBDC\nVideo 101 for Small Business: How to Capture Professional Content Using What You Already Have – Presented by America’s SBDC\nMake Onshoring Great Again: A Blueprint for Small Business Manufacturing – Presented by SBA\nBecoming Bankable: What Makes You a “Triple Threat” for Loans\, Deposits\, and Growth – Presented by Grasshopper Bank\nBeyond the Storefront: Smart Strategies for Small Business Growth – Presented by Amazon\nHiring Secrets: Staff Up Smart & Fast – Presented by Paychex\nCompensation & Equity Trends 2026: What Smart Leaders Must Act on Now – Presented by TriNet\nHow to Win Your Next Contract: Write stronger proposals\, stand out\, and win more bids- Presented by Verizon
URL:https://nvcapitalreadiness.org/event/national-small-business-week-virtual-summit-2/2026-05-06/
ATTACH;FMTTYPE=image/png:https://nvcapitalreadiness.org/wp-content/uploads/2026/04/Screenshot-2026-04-20-at-10.52.36-AM-scaled.png
END:VEVENT
END:VCALENDAR