BEGIN:VCALENDAR
VERSION:2.0
PRODID:-//Nevada Capital Readiness Program - ECPv6.15.20//NONSGML v1.0//EN
CALSCALE:GREGORIAN
METHOD:PUBLISH
X-ORIGINAL-URL:https://nvcapitalreadiness.org
X-WR-CALDESC:Events for Nevada Capital Readiness Program
REFRESH-INTERVAL;VALUE=DURATION:PT1H
X-Robots-Tag:noindex
X-PUBLISHED-TTL:PT1H
BEGIN:VTIMEZONE
TZID:America/Los_Angeles
BEGIN:DAYLIGHT
TZOFFSETFROM:-0800
TZOFFSETTO:-0700
TZNAME:PDT
DTSTART:20240310T100000
END:DAYLIGHT
BEGIN:STANDARD
TZOFFSETFROM:-0700
TZOFFSETTO:-0800
TZNAME:PST
DTSTART:20241103T090000
END:STANDARD
BEGIN:DAYLIGHT
TZOFFSETFROM:-0800
TZOFFSETTO:-0700
TZNAME:PDT
DTSTART:20250309T100000
END:DAYLIGHT
BEGIN:STANDARD
TZOFFSETFROM:-0700
TZOFFSETTO:-0800
TZNAME:PST
DTSTART:20251102T090000
END:STANDARD
BEGIN:DAYLIGHT
TZOFFSETFROM:-0800
TZOFFSETTO:-0700
TZNAME:PDT
DTSTART:20260308T100000
END:DAYLIGHT
BEGIN:STANDARD
TZOFFSETFROM:-0700
TZOFFSETTO:-0800
TZNAME:PST
DTSTART:20261101T090000
END:STANDARD
END:VTIMEZONE
BEGIN:VEVENT
DTSTART;TZID=America/Los_Angeles:20251012T163000
DTEND;TZID=America/Los_Angeles:20251012T180000
DTSTAMP:20260420T153958
CREATED:20251028T163645Z
LAST-MODIFIED:20251028T163645Z
UID:10000861-1760286600-1760292000@nvcapitalreadiness.org
SUMMARY:Custom GIS Data & Training
DESCRIPTION:Register here \nDate: 11/12/2025\nTime: 4:30 PM – 6:00 PM (PST)\nStatus: Full\nRegistration Deadline: 11/11/2025 5:00 PM (PST)\nFee: No Fee \nPoint of Contact: Gabriel Interrante (702) 465-4332 \nTraining Topics: Other\nDescription: What GIS can do for your business. Using maps to size markets\, compare sites\, and understand customer reach. How to request and interpret custom GIS reports from UNR Extension. Demo + Q&A. \n\nPoint of Contact: \nNV Grow Staff \nEmail: nvgrow@csn.edu
URL:https://nvcapitalreadiness.org/event/custom-gis-data-training-2/
LOCATION:UNR Extension Lifelong Learning Center\, 8050 Paradise Rd Ste 100\, Las Vegas\, NV\, 89123\, United States
ATTACH;FMTTYPE=image/jpeg:https://nvcapitalreadiness.org/wp-content/uploads/2025/10/image002-1.jpg
END:VEVENT
END:VCALENDAR