BEGIN:VCALENDAR
VERSION:2.0
PRODID:-//Nevada Capital Readiness Program - ECPv6.15.20//NONSGML v1.0//EN
CALSCALE:GREGORIAN
METHOD:PUBLISH
X-ORIGINAL-URL:https://nvcapitalreadiness.org
X-WR-CALDESC:Events for Nevada Capital Readiness Program
REFRESH-INTERVAL;VALUE=DURATION:PT1H
X-Robots-Tag:noindex
X-PUBLISHED-TTL:PT1H
BEGIN:VTIMEZONE
TZID:America/Los_Angeles
BEGIN:DAYLIGHT
TZOFFSETFROM:-0800
TZOFFSETTO:-0700
TZNAME:PDT
DTSTART:20240310T100000
END:DAYLIGHT
BEGIN:STANDARD
TZOFFSETFROM:-0700
TZOFFSETTO:-0800
TZNAME:PST
DTSTART:20241103T090000
END:STANDARD
BEGIN:DAYLIGHT
TZOFFSETFROM:-0800
TZOFFSETTO:-0700
TZNAME:PDT
DTSTART:20250309T100000
END:DAYLIGHT
BEGIN:STANDARD
TZOFFSETFROM:-0700
TZOFFSETTO:-0800
TZNAME:PST
DTSTART:20251102T090000
END:STANDARD
BEGIN:DAYLIGHT
TZOFFSETFROM:-0800
TZOFFSETTO:-0700
TZNAME:PDT
DTSTART:20260308T100000
END:DAYLIGHT
BEGIN:STANDARD
TZOFFSETFROM:-0700
TZOFFSETTO:-0800
TZNAME:PST
DTSTART:20261101T090000
END:STANDARD
END:VTIMEZONE
BEGIN:VEVENT
DTSTART;TZID=America/Los_Angeles:20251008T090000
DTEND;TZID=America/Los_Angeles:20251008T103000
DTSTAMP:20260420T111007
CREATED:20251006T170851Z
LAST-MODIFIED:20251006T170851Z
UID:10000848-1759914000-1759919400@nvcapitalreadiness.org
SUMMARY:Coffee & Commerce
DESCRIPTION:
URL:https://nvcapitalreadiness.org/event/coffee-commerce-11/
LOCATION:Carolyn G. Goodman Plaza\, 525 S Main St\, Las Vegas\, NV\, 89101\, United States
ATTACH;FMTTYPE=image/png:https://nvcapitalreadiness.org/wp-content/uploads/2025/10/CCOct8-2.png
END:VEVENT
BEGIN:VEVENT
DTSTART;TZID=America/Los_Angeles:20251008T120000
DTEND;TZID=America/Los_Angeles:20251008T130000
DTSTAMP:20260420T111007
CREATED:20250929T170520Z
LAST-MODIFIED:20250929T170520Z
UID:10000845-1759924800-1759928400@nvcapitalreadiness.org
SUMMARY:How To Increase The Value Of Your Business
DESCRIPTION:Join via Zoom for an insightful webinar series designed to help business leaders unlock their company’s full potential. This session will provide actionable strategies to maximize business value\, improve tax efficiency\, and ensure transaction success. Our expert speakers will guide you through practical approaches to enhance your organization’s long-term success. Don’t miss this opportunity to strengthen your leadership and position your business for growth.
URL:https://nvcapitalreadiness.org/event/how-to-increase-the-value-of-your-business/
ATTACH;FMTTYPE=image/png:https://nvcapitalreadiness.org/wp-content/uploads/2025/09/Screenshot-2025-09-29-at-10.03.08-AM.png
END:VEVENT
END:VCALENDAR