BEGIN:VCALENDAR
VERSION:2.0
PRODID:-//Nevada Capital Readiness Program - ECPv6.15.20//NONSGML v1.0//EN
CALSCALE:GREGORIAN
METHOD:PUBLISH
X-ORIGINAL-URL:https://nvcapitalreadiness.org
X-WR-CALDESC:Events for Nevada Capital Readiness Program
REFRESH-INTERVAL;VALUE=DURATION:PT1H
X-Robots-Tag:noindex
X-PUBLISHED-TTL:PT1H
BEGIN:VTIMEZONE
TZID:America/Los_Angeles
BEGIN:DAYLIGHT
TZOFFSETFROM:-0800
TZOFFSETTO:-0700
TZNAME:PDT
DTSTART:20240310T100000
END:DAYLIGHT
BEGIN:STANDARD
TZOFFSETFROM:-0700
TZOFFSETTO:-0800
TZNAME:PST
DTSTART:20241103T090000
END:STANDARD
BEGIN:DAYLIGHT
TZOFFSETFROM:-0800
TZOFFSETTO:-0700
TZNAME:PDT
DTSTART:20250309T100000
END:DAYLIGHT
BEGIN:STANDARD
TZOFFSETFROM:-0700
TZOFFSETTO:-0800
TZNAME:PST
DTSTART:20251102T090000
END:STANDARD
BEGIN:DAYLIGHT
TZOFFSETFROM:-0800
TZOFFSETTO:-0700
TZNAME:PDT
DTSTART:20260308T100000
END:DAYLIGHT
BEGIN:STANDARD
TZOFFSETFROM:-0700
TZOFFSETTO:-0800
TZNAME:PST
DTSTART:20261101T090000
END:STANDARD
END:VTIMEZONE
BEGIN:VEVENT
DTSTART;TZID=America/Los_Angeles:20251007T120000
DTEND;TZID=America/Los_Angeles:20251007T170000
DTSTAMP:20260420T093205
CREATED:20251006T160352Z
LAST-MODIFIED:20251006T160352Z
UID:10000847-1759838400-1759856400@nvcapitalreadiness.org
SUMMARY:North Las Vegas Business Expo 2025
DESCRIPTION:Join the Vegas Chamber’s inaugural North Las Vegas Business Expo! \nBe part of this high-energy showcase spotlighting the innovation\, resilience\, and entrepreneurial spirit in the City of North Las Vegas. This dynamic event brings together local businesses and community leaders for a day of connection and opportunity. \nExplore a wide range of business offerings\, enjoy Chamber Chats featuring insights from industry experts\, and experience Taste of Vegas—with cuisine samples from some of the best local eateries. \nExhibitor spots are now open. Showcase your products and services\, build new partnerships\, and grow your presence in one of the region’s fastest-growing business communities. \n  \nBusiness is on the move in the City of North Las Vegas. \nRegister to attend. Free entry! \nFree parking is available in the parking garage. \nFor members inquiring about purchasing a booth\, please contact Deborah Makiri at dmakiri@vegaschamber.com. 
URL:https://nvcapitalreadiness.org/event/north-las-vegas-business-expo-2025/
LOCATION:Aliante Casino & Hotel\, 7300 Aliante Pkwy N\, North Las Vegas\, NV\, 89084\, United States
ATTACH;FMTTYPE=image/png:https://nvcapitalreadiness.org/wp-content/uploads/2025/10/Screenshot-2025-10-06-at-9.02.10-AM.png
END:VEVENT
END:VCALENDAR