BEGIN:VCALENDAR
VERSION:2.0
PRODID:-//Nevada Capital Readiness Program - ECPv6.15.20//NONSGML v1.0//EN
CALSCALE:GREGORIAN
METHOD:PUBLISH
X-WR-CALNAME:Nevada Capital Readiness Program
X-ORIGINAL-URL:https://nvcapitalreadiness.org
X-WR-CALDESC:Events for Nevada Capital Readiness Program
REFRESH-INTERVAL;VALUE=DURATION:PT1H
X-Robots-Tag:noindex
X-PUBLISHED-TTL:PT1H
BEGIN:VTIMEZONE
TZID:America/Los_Angeles
BEGIN:DAYLIGHT
TZOFFSETFROM:-0800
TZOFFSETTO:-0700
TZNAME:PDT
DTSTART:20240310T100000
END:DAYLIGHT
BEGIN:STANDARD
TZOFFSETFROM:-0700
TZOFFSETTO:-0800
TZNAME:PST
DTSTART:20241103T090000
END:STANDARD
BEGIN:DAYLIGHT
TZOFFSETFROM:-0800
TZOFFSETTO:-0700
TZNAME:PDT
DTSTART:20250309T100000
END:DAYLIGHT
BEGIN:STANDARD
TZOFFSETFROM:-0700
TZOFFSETTO:-0800
TZNAME:PST
DTSTART:20251102T090000
END:STANDARD
BEGIN:DAYLIGHT
TZOFFSETFROM:-0800
TZOFFSETTO:-0700
TZNAME:PDT
DTSTART:20260308T100000
END:DAYLIGHT
BEGIN:STANDARD
TZOFFSETFROM:-0700
TZOFFSETTO:-0800
TZNAME:PST
DTSTART:20261101T090000
END:STANDARD
END:VTIMEZONE
BEGIN:VEVENT
DTSTART;TZID=America/Los_Angeles:20250929T080000
DTEND;TZID=America/Los_Angeles:20251003T170000
DTSTAMP:20260420T102641
CREATED:20250730T191346Z
LAST-MODIFIED:20250730T191346Z
UID:10000772-1759132800-1759510800@nvcapitalreadiness.org
SUMMARY:Reno Startup Week
DESCRIPTION:Reno Startup Week is a week-long event that celebrates and promotes the region’s entrepreneurial community and startup ecosystem.  \nThe week will offer a variety of activities\, workshops\, discussions\, and networking opportunities to foster innovation and collaboration among entrepreneurs of all stages – whether you’re just getting started\, running a small business\, or focusing on scaling your startup\, Reno Startup Week is an awesome opportunity to connect with the community.
URL:https://nvcapitalreadiness.org/event/reno-startup-week/
LOCATION:NV
ATTACH;FMTTYPE=image/png:https://nvcapitalreadiness.org/wp-content/uploads/2025/07/Screenshot-2025-07-29-at-6.26.59-PM.png
END:VEVENT
BEGIN:VEVENT
DTSTART;TZID=America/Los_Angeles:20251001T160000
DTEND;TZID=America/Los_Angeles:20251001T180000
DTSTAMP:20260420T102641
CREATED:20250730T162513Z
LAST-MODIFIED:20250730T165727Z
UID:10000771-1759334400-1759341600@nvcapitalreadiness.org
SUMMARY:Startup World Cup - Reno Regional Competition
DESCRIPTION:𝗣𝗶𝘁𝗰𝗵 𝗬𝗼𝘂𝗿 𝗦𝘁𝗮𝗿𝘁𝘂𝗽 𝗮𝘁 𝗥𝗲𝗻𝗼 𝗦𝘁𝗮𝗿𝘁𝘂𝗽 𝗪𝗲𝗲𝗸 𝟮𝟬𝟮𝟱! \nGot a killer startup idea ready for the spotlight? This is your moment! Apply to pitch at the Startup World Cup – Reno Regional Competition. It’s the perfect chance to get your innovation in front of the right people. \nThe Top 10 applicants will pitch live at the Reno Startup Week 2025 on October 1\, 2025\, in front of industry experts and a buzzing startup crowd. The winner will earn a spot at the Startup World Cup Grand Finale in San Francisco with a chance to compete for a $1 million investment. \nBonus: The 10 runner-up applicants will be invited to participate in a Startup Fair prior to the pitch competition\, sponsored by the Ozmen Center for Entrepreneurship. \nThis is an incredible opportunity for real feedback and vital connections to take your startup to the next level. Don’t miss out – applications close on Friday\, August 15\, 2025! \nApply here for the Startup World Cup – Reno Regional Competition:  \n 
URL:https://nvcapitalreadiness.org/event/startup-world-cup-reno-regional-competition/
LOCATION:Whitney Peak Cargo Concert Hall
ATTACH;FMTTYPE=image/jpeg:https://nvcapitalreadiness.org/wp-content/uploads/2025/07/524407200_625649177232528_5044502107178491202_n.jpg
END:VEVENT
END:VCALENDAR