BEGIN:VCALENDAR
VERSION:2.0
PRODID:-//Nevada Capital Readiness Program - ECPv6.15.20//NONSGML v1.0//EN
CALSCALE:GREGORIAN
METHOD:PUBLISH
X-WR-CALNAME:Nevada Capital Readiness Program
X-ORIGINAL-URL:https://nvcapitalreadiness.org
X-WR-CALDESC:Events for Nevada Capital Readiness Program
REFRESH-INTERVAL;VALUE=DURATION:PT1H
X-Robots-Tag:noindex
X-PUBLISHED-TTL:PT1H
BEGIN:VTIMEZONE
TZID:America/Los_Angeles
BEGIN:DAYLIGHT
TZOFFSETFROM:-0800
TZOFFSETTO:-0700
TZNAME:PDT
DTSTART:20240310T100000
END:DAYLIGHT
BEGIN:STANDARD
TZOFFSETFROM:-0700
TZOFFSETTO:-0800
TZNAME:PST
DTSTART:20241103T090000
END:STANDARD
BEGIN:DAYLIGHT
TZOFFSETFROM:-0800
TZOFFSETTO:-0700
TZNAME:PDT
DTSTART:20250309T100000
END:DAYLIGHT
BEGIN:STANDARD
TZOFFSETFROM:-0700
TZOFFSETTO:-0800
TZNAME:PST
DTSTART:20251102T090000
END:STANDARD
BEGIN:DAYLIGHT
TZOFFSETFROM:-0800
TZOFFSETTO:-0700
TZNAME:PDT
DTSTART:20260308T100000
END:DAYLIGHT
BEGIN:STANDARD
TZOFFSETFROM:-0700
TZOFFSETTO:-0800
TZNAME:PST
DTSTART:20261101T090000
END:STANDARD
END:VTIMEZONE
BEGIN:VEVENT
DTSTART;TZID=America/Los_Angeles:20250925T083000
DTEND;TZID=America/Los_Angeles:20250925T110000
DTSTAMP:20260420T074914
CREATED:20250911T161332Z
LAST-MODIFIED:20250911T161332Z
UID:10000844-1758789000-1758798000@nvcapitalreadiness.org
SUMMARY:Women's Networking Event
DESCRIPTION:About the event\n\n\n\nPlease join SCORE Las Vegas’ women’s networking group. Connect with other entrepreneurs for an informative educational and networking event. Meet with other small business owners and aspiring small business owners to share your thoughts\, ideas and plans. Learn and grow through discussion with other people for everyone’s benefit.
URL:https://nvcapitalreadiness.org/event/womens-networking-event-8/
LOCATION:Nevada Department of Business & Industry\, 3300 West Sahara Avenue Suite 425\, Las Vegas\, NV\, 89102\, United States
ATTACH;FMTTYPE=image/avif:https://nvcapitalreadiness.org/wp-content/uploads/2025/09/womennetworking_2.jpg.avif
END:VEVENT
END:VCALENDAR