BEGIN:VCALENDAR
VERSION:2.0
PRODID:-//Nevada Capital Readiness Program - ECPv6.15.20//NONSGML v1.0//EN
CALSCALE:GREGORIAN
METHOD:PUBLISH
X-ORIGINAL-URL:https://nvcapitalreadiness.org
X-WR-CALDESC:Events for Nevada Capital Readiness Program
REFRESH-INTERVAL;VALUE=DURATION:PT1H
X-Robots-Tag:noindex
X-PUBLISHED-TTL:PT1H
BEGIN:VTIMEZONE
TZID:America/Los_Angeles
BEGIN:DAYLIGHT
TZOFFSETFROM:-0800
TZOFFSETTO:-0700
TZNAME:PDT
DTSTART:20240310T100000
END:DAYLIGHT
BEGIN:STANDARD
TZOFFSETFROM:-0700
TZOFFSETTO:-0800
TZNAME:PST
DTSTART:20241103T090000
END:STANDARD
BEGIN:DAYLIGHT
TZOFFSETFROM:-0800
TZOFFSETTO:-0700
TZNAME:PDT
DTSTART:20250309T100000
END:DAYLIGHT
BEGIN:STANDARD
TZOFFSETFROM:-0700
TZOFFSETTO:-0800
TZNAME:PST
DTSTART:20251102T090000
END:STANDARD
BEGIN:DAYLIGHT
TZOFFSETFROM:-0800
TZOFFSETTO:-0700
TZNAME:PDT
DTSTART:20260308T100000
END:DAYLIGHT
BEGIN:STANDARD
TZOFFSETFROM:-0700
TZOFFSETTO:-0800
TZNAME:PST
DTSTART:20261101T090000
END:STANDARD
END:VTIMEZONE
BEGIN:VEVENT
DTSTART;TZID=America/Los_Angeles:20250729T090000
DTEND;TZID=America/Los_Angeles:20250729T150000
DTSTAMP:20260420T034720
CREATED:20250725T161117Z
LAST-MODIFIED:20250725T161904Z
UID:10000769-1753779600-1753801200@nvcapitalreadiness.org
SUMMARY:Coffee\, Connections & Celebration for National Black Business Month
DESCRIPTION:
URL:https://nvcapitalreadiness.org/event/coffee-connections-celebration-for-national-black-business-month/
LOCATION:Sumnu Marketing office\, 1951 Stella Lake St #7\, Las Vegas\, NV\, 89106\, United States
ATTACH;FMTTYPE=image/png:https://nvcapitalreadiness.org/wp-content/uploads/2025/07/Screenshot-2025-07-25-at-9.07.27-AM.png
END:VEVENT
BEGIN:VEVENT
DTSTART;TZID=America/Los_Angeles:20250729T170000
DTEND;TZID=America/Los_Angeles:20250729T180000
DTSTAMP:20260420T034720
CREATED:20250728T182346Z
LAST-MODIFIED:20250728T182346Z
UID:10000770-1753808400-1753812000@nvcapitalreadiness.org
SUMMARY:A's Ballpark Project - Vendor Forum (Members Only)
DESCRIPTION:
URL:https://nvcapitalreadiness.org/event/as-ballpark-project-vendor-forum-members-only/
LOCATION:Urban Chamber of Commerce\, 1951 Stella Lake Street Suite 30\, Las Vegas\, NV\, 89106\, United States
ATTACH;FMTTYPE=image/png:https://nvcapitalreadiness.org/wp-content/uploads/2025/07/UCCAsBallparkProjectVENDORFORUM-012.png
END:VEVENT
END:VCALENDAR