BEGIN:VCALENDAR
VERSION:2.0
PRODID:-//Nevada Capital Readiness Program - ECPv6.15.20//NONSGML v1.0//EN
CALSCALE:GREGORIAN
METHOD:PUBLISH
X-WR-CALNAME:Nevada Capital Readiness Program
X-ORIGINAL-URL:https://nvcapitalreadiness.org
X-WR-CALDESC:Events for Nevada Capital Readiness Program
REFRESH-INTERVAL;VALUE=DURATION:PT1H
X-Robots-Tag:noindex
X-PUBLISHED-TTL:PT1H
BEGIN:VTIMEZONE
TZID:America/Los_Angeles
BEGIN:DAYLIGHT
TZOFFSETFROM:-0800
TZOFFSETTO:-0700
TZNAME:PDT
DTSTART:20240310T100000
END:DAYLIGHT
BEGIN:STANDARD
TZOFFSETFROM:-0700
TZOFFSETTO:-0800
TZNAME:PST
DTSTART:20241103T090000
END:STANDARD
BEGIN:DAYLIGHT
TZOFFSETFROM:-0800
TZOFFSETTO:-0700
TZNAME:PDT
DTSTART:20250309T100000
END:DAYLIGHT
BEGIN:STANDARD
TZOFFSETFROM:-0700
TZOFFSETTO:-0800
TZNAME:PST
DTSTART:20251102T090000
END:STANDARD
BEGIN:DAYLIGHT
TZOFFSETFROM:-0800
TZOFFSETTO:-0700
TZNAME:PDT
DTSTART:20260308T100000
END:DAYLIGHT
BEGIN:STANDARD
TZOFFSETFROM:-0700
TZOFFSETTO:-0800
TZNAME:PST
DTSTART:20261101T090000
END:STANDARD
END:VTIMEZONE
BEGIN:VEVENT
DTSTART;TZID=America/Los_Angeles:20250227T090000
DTEND;TZID=America/Los_Angeles:20250227T110000
DTSTAMP:20260420T061803
CREATED:20241227T175336Z
LAST-MODIFIED:20241227T175336Z
UID:10000594-1740646800-1740654000@nvcapitalreadiness.org
SUMMARY:Money Smart Workshop - Record Keeping
DESCRIPTION:The UNR Extension in partnership with the Urban Chamber will be hosting the Money Smart Workshop series for small businesses. This 13-week series delves into the ins and outs of business finances. This curriculum was created by FDIC\, to help small businesses enhance their financial skills and create positive banking relationships.
URL:https://nvcapitalreadiness.org/event/money-smart-workshop-record-keeping/
LOCATION:UNR Extension\, 2280 N McDaniel Street\, North Las Vegas\, NV\, 89030\, United States
ATTACH;FMTTYPE=image/png:https://nvcapitalreadiness.org/wp-content/uploads/2024/12/2-MoneySmartFlyer2025-1.png
END:VEVENT
BEGIN:VEVENT
DTSTART;TZID=America/Los_Angeles:20250227T140000
DTEND;TZID=America/Los_Angeles:20250227T150000
DTSTAMP:20260420T061803
CREATED:20250204T204124Z
LAST-MODIFIED:20250204T204124Z
UID:10000663-1740664800-1740668400@nvcapitalreadiness.org
SUMMARY:Where’s the Contract? What is the DoD’s DPA Title III and Where Businesses Should Go To View FOAs
DESCRIPTION:Training Topics: Government Contracting\nDescription: \n\nWhere’s the Contact? What is the U.S. Department of Defense’s (DoD’s) Defense Production Act (DPA) Title III at the Federal Government-Level and Where Businesses Should Go To View Funding Opportunity Announcements (FOAs) \nNevada APEX Accelerator overview\, plus learn about what this DoD program entails and how to go about finding business opportunities. \nPresented by John Rice\, Government Contracts Advisor\, Nevada APEX Accelerator \n“Where’s The Contract?” is a no-charge monthly training program designed to put Nevada businesses on the path to securing government contracts and subcontracts and diversifying revenue sources. \nRegarding the APEX Accelerator [formerly known as the Nevada Procurement Technical Assistance Center (PTAC)] (note: see the updated webpage at https://goed.nv.gov/programs-incentives/procurement-assistance-outreach/ to become a client and follow us on the updated LinkedIn profile at https://www.linkedin.com): This APEX Accelerator is funded in part through a cooperative agreement with the Department of Defense. \nRegarding the Nevada SBDC: The Nevada SBDC is funded in part through a Cooperative Agreement with the U.S. Small Business Administration.All services are extended to the public on a non-discriminatory basis. Reasonable accommodations for persons with mental or physical disabilities will be made if requested at least two weeks in advance. Contact the Nevada SBDC State Office at (800) 240-7094 to make arrangements. SBA cannot endorse any products\, opinions or services of any external parties or activities. \nThis webinar is co-sponsored by two separate organizations\, i.e.\, the APEX Accelerator and the Nevada SBDC. \n\nInstructions: \nRegister as soon as possible for this webinar\, but by no later than 2/26/2025\, only using the following GoToWebinar link: \nhttps://attendee.gotowebinar.com/register/466610084458533726
URL:https://nvcapitalreadiness.org/event/wheres-the-contract-what-is-the-dods-dpa-title-iii-and-where-businesses-should-go-to-view-foas/
LOCATION:NV
END:VEVENT
BEGIN:VEVENT
DTSTART;TZID=America/Los_Angeles:20250227T170000
DTEND;TZID=America/Los_Angeles:20250227T183000
DTSTAMP:20260420T061803
CREATED:20250204T193916Z
LAST-MODIFIED:20250204T194113Z
UID:10000656-1740675600-1740681000@nvcapitalreadiness.org
SUMMARY:Construction 2.0 Workshop
DESCRIPTION:Date/Time: \n\n\n\nSession #1\n2/6/2025\n5:00 PM\n– 6:30 PM (PST)\n\n\n\nSession #2\n2/13/2025\n5:00 PM\n– 6:30 PM (PST)\n\n\n\nSession #3\n2/20/2025\n5:00 PM\n– 6:30 PM (PST)\n\n\n\nSession #4\n2/27/2025\n5:00 PM\n– 6:30 PM (PST)\n\n\n\nSession #5\n3/6/2025\n5:00 PM\n– 6:30 PM (PST)\n\n\n\nSession #6\n3/13/2025\n5:00 PM\n– 6:30 PM (PDT)\n\n\n\n\nRegistration Deadline: 2/6/2025 8:00 AM (PST)\nFee: No Fee \nPoint of Contact: George Garcia\nLocation: 8400 W Sunset Rd\, Las Vegas NV 89113-2283 \nTraining Topics: Business Start-up/Preplanning\, Legal Issues\, Managing a Business\nDescription: \n\nJoin us\, in collaboration with UNLV’s Office of Economic Development\, and the Nevada State Contractors Board\, for an empowering 6-week\, in-person course dedicated to construction marketing! This program covers essential strategies for winning contracts\, establishing a strong marketing foundation\, and creating impactful capability statements. Learn directly from seasoned professionals\, connect with experienced contractors\, and benefit from expert guidance from business advisors. Don’t miss this opportunity to sharpen your skills\, expand your network\, and gain the tools to elevate your contracting business! \n 
URL:https://nvcapitalreadiness.org/event/construction-2-0-workshop-3/2025-02-27/
LOCATION:8400 W Sunset Rd\, 8400 W Sunset Rd\, Las Vegas\, NV\, 89113\, United States
ATTACH;FMTTYPE=image/png:https://nvcapitalreadiness.org/wp-content/uploads/2025/02/image_D2B32EDA-3C8A-4828-AE11-9747D411E5B1.png
END:VEVENT
END:VCALENDAR