BEGIN:VCALENDAR
VERSION:2.0
PRODID:-//Nevada Capital Readiness Program - ECPv6.15.20//NONSGML v1.0//EN
CALSCALE:GREGORIAN
METHOD:PUBLISH
X-WR-CALNAME:Nevada Capital Readiness Program
X-ORIGINAL-URL:https://nvcapitalreadiness.org
X-WR-CALDESC:Events for Nevada Capital Readiness Program
REFRESH-INTERVAL;VALUE=DURATION:PT1H
X-Robots-Tag:noindex
X-PUBLISHED-TTL:PT1H
BEGIN:VTIMEZONE
TZID:America/Los_Angeles
BEGIN:DAYLIGHT
TZOFFSETFROM:-0800
TZOFFSETTO:-0700
TZNAME:PDT
DTSTART:20240310T100000
END:DAYLIGHT
BEGIN:STANDARD
TZOFFSETFROM:-0700
TZOFFSETTO:-0800
TZNAME:PST
DTSTART:20241103T090000
END:STANDARD
BEGIN:DAYLIGHT
TZOFFSETFROM:-0800
TZOFFSETTO:-0700
TZNAME:PDT
DTSTART:20250309T100000
END:DAYLIGHT
BEGIN:STANDARD
TZOFFSETFROM:-0700
TZOFFSETTO:-0800
TZNAME:PST
DTSTART:20251102T090000
END:STANDARD
BEGIN:DAYLIGHT
TZOFFSETFROM:-0800
TZOFFSETTO:-0700
TZNAME:PDT
DTSTART:20260308T100000
END:DAYLIGHT
BEGIN:STANDARD
TZOFFSETFROM:-0700
TZOFFSETTO:-0800
TZNAME:PST
DTSTART:20261101T090000
END:STANDARD
END:VTIMEZONE
BEGIN:VEVENT
DTSTART;TZID=America/Los_Angeles:20250215T080000
DTEND;TZID=America/Los_Angeles:20250222T170000
DTSTAMP:20260420T061144
CREATED:20250219T204808Z
LAST-MODIFIED:20250219T204808Z
UID:10000667-1739606400-1740243600@nvcapitalreadiness.org
SUMMARY:National Entrepreneurship Week
DESCRIPTION:About National Entrepreneurship Week\n\nNatlEshipWeek is a congressionally chartered week dedicated to empowering entrepreneurship across the United States. The annual initiative was relaunched in 2017 as NatlEshipWeek to bring together a network of partners from Maui to Miami to educate\, engage\, and build equitable access to America’s Entrepreneurship Ecosystem. Read the relaunch story below
URL:https://nvcapitalreadiness.org/event/national-entrepreneurship-week/
LOCATION:NV
ATTACH;FMTTYPE=image/png:https://nvcapitalreadiness.org/wp-content/uploads/2025/02/Screenshot-2025-02-18-at-1.33.58 PM.png
END:VEVENT
BEGIN:VEVENT
DTSTART;TZID=America/Los_Angeles:20250221T093000
DTEND;TZID=America/Los_Angeles:20250221T113000
DTSTAMP:20260420T061144
CREATED:20250204T191311Z
LAST-MODIFIED:20250204T191504Z
UID:10000643-1740130200-1740137400@nvcapitalreadiness.org
SUMMARY:Quickbooks Online en Español 1.0
DESCRIPTION:Date/Time: \n\n\n\nSession #1\n2/21/2025\n9:30 AM\n– 11:30 AM (PST)\n\n\n\nSession #2\n2/28/2025\n9:30 AM\n– 11:30 AM (PST)\n\n\n\nSession #3\n3/7/2025\n9:30 AM\n– 11:30 AM (PST)\n\n\n\nSession #4\n3/14/2025\n9:30 AM\n– 11:30 AM (PDT)\n\n\n\nSession #5\n3/21/2025\n9:30 AM\n– 11:30 AM (PDT)\n\n\n\nSession #6\n3/28/2025\n9:30 AM\n– 11:30 AM (PDT)\n\n\n\n\nRegistration Deadline: 2/21/2025 8:00 AM (PST) \nPoint of Contact: Carmen Mendez\nLocation: 1755 W Alexander Rd\, North Las Vegas NV 89032-7677 \nTraining Topics: Accounting/Budget\, Business Financing\, Business Start-up/Preplanning\nDescription: \n\nQuickBooks Online En Español 1.0\n¿Eres parte del más del 80% de propietarios de pequeñas y medianas empresas que utilizan QuickBooks\, pero sientes que no estás aprovechando todo su potencial? QuickBooks Online es diferente de la versión Desktop y tiene muchas funciones que operan de manera distinta. Con solo unos minutos\, puedes comenzar a personalizarlo para satisfacer las necesidades específicas de tu negocio. \n¡Únete a nuestra serie de 6 sesiones de QuickBooks Online y domina esta herramienta para gestionar tu empresa con mayor eficiencia! \nDetalles del Taller\n\nInicio: Viernes\, 21 de febrero\nHorario: 9:30 a.m. – 11:30 a.m.\nFrecuencia: Una vez a la semana\, todos los Viernes\, por 6 semanas\nLugar: Alexander Library (1755 W Alexander Rd\, North Las Vegas\, NV 89032)\nFormato: Taller práctico con expertos invitados a lo largo del taller\n\nTemas Semanales \n\nSemana 1: Introducción – Cómo empezar con QuickBooks Online.\nSemana 2: Contabilidad básica – Bookkeeping.\nSemana 3: Principios de contabilidad esenciales.\nSemana 4: Funciones que ahorran tiempo y aumentan la productividad.\nSemana 5: Cómo rastrear ventas y gastos para cumplir con las necesidades de tu negocio.\nSemana 6: La facilidad y seguridad de realizar copias de seguridad de los datos.\n\nThis project is being supported\, in whole or in part\, by federal award number SSBCI-21031-0011 awarded to Nevada SBDC by the U.S. Department of the Treasury. \nIn collaboration with the Henderson Chamber of Commerce and Launchpad.
URL:https://nvcapitalreadiness.org/event/quickbooks-online-en-espanol-1-0/2025-02-21/
LOCATION:1755 W Alexander Rd\, 1755 W Alexander Rd\, North Las Vegas\, NV\, 89032\, United States
ATTACH;FMTTYPE=image/png:https://nvcapitalreadiness.org/wp-content/uploads/2025/02/image_23513BA0-F42E-44CB-AF27-3CF38F862438.png
END:VEVENT
END:VCALENDAR