BEGIN:VCALENDAR
VERSION:2.0
PRODID:-//Nevada Capital Readiness Program - ECPv6.15.20//NONSGML v1.0//EN
CALSCALE:GREGORIAN
METHOD:PUBLISH
X-WR-CALNAME:Nevada Capital Readiness Program
X-ORIGINAL-URL:https://nvcapitalreadiness.org
X-WR-CALDESC:Events for Nevada Capital Readiness Program
REFRESH-INTERVAL;VALUE=DURATION:PT1H
X-Robots-Tag:noindex
X-PUBLISHED-TTL:PT1H
BEGIN:VTIMEZONE
TZID:America/Los_Angeles
BEGIN:DAYLIGHT
TZOFFSETFROM:-0800
TZOFFSETTO:-0700
TZNAME:PDT
DTSTART:20240310T100000
END:DAYLIGHT
BEGIN:STANDARD
TZOFFSETFROM:-0700
TZOFFSETTO:-0800
TZNAME:PST
DTSTART:20241103T090000
END:STANDARD
BEGIN:DAYLIGHT
TZOFFSETFROM:-0800
TZOFFSETTO:-0700
TZNAME:PDT
DTSTART:20250309T100000
END:DAYLIGHT
BEGIN:STANDARD
TZOFFSETFROM:-0700
TZOFFSETTO:-0800
TZNAME:PST
DTSTART:20251102T090000
END:STANDARD
BEGIN:DAYLIGHT
TZOFFSETFROM:-0800
TZOFFSETTO:-0700
TZNAME:PDT
DTSTART:20260308T100000
END:DAYLIGHT
BEGIN:STANDARD
TZOFFSETFROM:-0700
TZOFFSETTO:-0800
TZNAME:PST
DTSTART:20261101T090000
END:STANDARD
END:VTIMEZONE
BEGIN:VEVENT
DTSTART;TZID=America/Los_Angeles:20250215T080000
DTEND;TZID=America/Los_Angeles:20250222T170000
DTSTAMP:20260420T061146
CREATED:20250219T204808Z
LAST-MODIFIED:20250219T204808Z
UID:10000667-1739606400-1740243600@nvcapitalreadiness.org
SUMMARY:National Entrepreneurship Week
DESCRIPTION:About National Entrepreneurship Week\n\nNatlEshipWeek is a congressionally chartered week dedicated to empowering entrepreneurship across the United States. The annual initiative was relaunched in 2017 as NatlEshipWeek to bring together a network of partners from Maui to Miami to educate\, engage\, and build equitable access to America’s Entrepreneurship Ecosystem. Read the relaunch story below
URL:https://nvcapitalreadiness.org/event/national-entrepreneurship-week/
LOCATION:NV
ATTACH;FMTTYPE=image/png:https://nvcapitalreadiness.org/wp-content/uploads/2025/02/Screenshot-2025-02-18-at-1.33.58 PM.png
END:VEVENT
BEGIN:VEVENT
DTSTART;TZID=America/Los_Angeles:20250219T090000
DTEND;TZID=America/Los_Angeles:20250219T150000
DTSTAMP:20260420T061146
CREATED:20250219T205518Z
LAST-MODIFIED:20250219T205518Z
UID:10000677-1739955600-1739977200@nvcapitalreadiness.org
SUMMARY:SCORE Las Vegas Small Business Resource Fair
DESCRIPTION:About the event\n\n\n\nPlease join SCORE Las Vegas for a day of education\, networking and introduction to local resources dedicated to supporting the small business community. Resource partners will be on hand to share information about how they can help with your business opportunities and challenges. Workshop topics include business planning\, AI and marketing\, financial management and others. A soon to be announced guest speaker will share innovative ideas and insights geared to the small business owner. Event is offered at no charge. Light Breakfast & Lunch provided. Registration required. Free Parking. An agenda will be provided to the registrants prior to Friday\, March 14th. Sponsored by US Bank.
URL:https://nvcapitalreadiness.org/event/score-las-vegas-small-business-resource-fair/
LOCATION:Black Fire Innovation\, 8400 W Sunset Rd\, Las Vegas\, NV\, 89113\, United States
ATTACH;FMTTYPE=image/avif:https://nvcapitalreadiness.org/wp-content/uploads/2025/02/SmallBusienssOpening.jpg.avif
END:VEVENT
BEGIN:VEVENT
DTSTART;TZID=America/Los_Angeles:20250219T113000
DTEND;TZID=America/Los_Angeles:20250219T130000
DTSTAMP:20260420T061146
CREATED:20250128T173817Z
LAST-MODIFIED:20250128T173817Z
UID:10000616-1739964600-1739970000@nvcapitalreadiness.org
SUMMARY:NVCRP Lunch & Learn
DESCRIPTION:
URL:https://nvcapitalreadiness.org/event/nvcrp-lunch-learn/
LOCATION:Urban Chamber of Commerce\, 1951 Stella Lake Street Suite 30\, Las Vegas\, NV\, 89106\, United States
ATTACH;FMTTYPE=application/pdf:https://nvcapitalreadiness.org/wp-content/uploads/2025/01/Lunch-Learn-Feb-2025-Flyer.pdf
END:VEVENT
BEGIN:VEVENT
DTSTART;TZID=America/Los_Angeles:20250219T170000
DTEND;TZID=America/Los_Angeles:20250219T183000
DTSTAMP:20260420T061146
CREATED:20250204T174024Z
LAST-MODIFIED:20250204T174024Z
UID:10000620-1739984400-1739989800@nvcapitalreadiness.org
SUMMARY:Construction 1.0 Workshop
DESCRIPTION:Training Topics: Business Start-up/Preplanning\, Legal Issues\, Managing a Business \nDescription:Join SBDC\, in collaboration with UNLV’s Office of Economic Development\, and the Nevada State Contractors Board\, for a dynamic\, in-person\, 6-week course designed to guide you through the construction industry. Gain essential insights into crucial construction business topics and receive a step-by-step walkthrough of the Nevada State Contractors Board application process. This course offers a unique opportunity to connect with industry professionals\, access expert support\, and utilize resources to help you secure your contractor’s license. Don’t miss out on this chance to build a successful future in construction! \n 
URL:https://nvcapitalreadiness.org/event/construction-1-0-workshop-2/2025-02-19/
LOCATION:Office of Economic Development\, 8400 W Sunset Rd\, Las Vegas\, NV\, 89113\, United States
ATTACH;FMTTYPE=image/png:https://nvcapitalreadiness.org/wp-content/uploads/2025/02/image_273D9E04-7A00-45C0-BEB8-5263AA657385.png
END:VEVENT
END:VCALENDAR