BEGIN:VCALENDAR
VERSION:2.0
PRODID:-//Nevada Capital Readiness Program - ECPv6.15.20//NONSGML v1.0//EN
CALSCALE:GREGORIAN
METHOD:PUBLISH
X-WR-CALNAME:Nevada Capital Readiness Program
X-ORIGINAL-URL:https://nvcapitalreadiness.org
X-WR-CALDESC:Events for Nevada Capital Readiness Program
REFRESH-INTERVAL;VALUE=DURATION:PT1H
X-Robots-Tag:noindex
X-PUBLISHED-TTL:PT1H
BEGIN:VTIMEZONE
TZID:America/Los_Angeles
BEGIN:DAYLIGHT
TZOFFSETFROM:-0800
TZOFFSETTO:-0700
TZNAME:PDT
DTSTART:20240310T100000
END:DAYLIGHT
BEGIN:STANDARD
TZOFFSETFROM:-0700
TZOFFSETTO:-0800
TZNAME:PST
DTSTART:20241103T090000
END:STANDARD
BEGIN:DAYLIGHT
TZOFFSETFROM:-0800
TZOFFSETTO:-0700
TZNAME:PDT
DTSTART:20250309T100000
END:DAYLIGHT
BEGIN:STANDARD
TZOFFSETFROM:-0700
TZOFFSETTO:-0800
TZNAME:PST
DTSTART:20251102T090000
END:STANDARD
BEGIN:DAYLIGHT
TZOFFSETFROM:-0800
TZOFFSETTO:-0700
TZNAME:PDT
DTSTART:20260308T100000
END:DAYLIGHT
BEGIN:STANDARD
TZOFFSETFROM:-0700
TZOFFSETTO:-0800
TZNAME:PST
DTSTART:20261101T090000
END:STANDARD
END:VTIMEZONE
BEGIN:VEVENT
DTSTART;TZID=America/Los_Angeles:20250215T080000
DTEND;TZID=America/Los_Angeles:20250222T170000
DTSTAMP:20260420T061148
CREATED:20250219T204808Z
LAST-MODIFIED:20250219T204808Z
UID:10000667-1739606400-1740243600@nvcapitalreadiness.org
SUMMARY:National Entrepreneurship Week
DESCRIPTION:About National Entrepreneurship Week\n\nNatlEshipWeek is a congressionally chartered week dedicated to empowering entrepreneurship across the United States. The annual initiative was relaunched in 2017 as NatlEshipWeek to bring together a network of partners from Maui to Miami to educate\, engage\, and build equitable access to America’s Entrepreneurship Ecosystem. Read the relaunch story below
URL:https://nvcapitalreadiness.org/event/national-entrepreneurship-week/
LOCATION:NV
ATTACH;FMTTYPE=image/png:https://nvcapitalreadiness.org/wp-content/uploads/2025/02/Screenshot-2025-02-18-at-1.33.58 PM.png
END:VEVENT
BEGIN:VEVENT
DTSTART;TZID=America/Los_Angeles:20250218T150000
DTEND;TZID=America/Los_Angeles:20250218T173000
DTSTAMP:20260420T061148
CREATED:20250204T203438Z
LAST-MODIFIED:20250204T213834Z
UID:10000662-1739890800-1739899800@nvcapitalreadiness.org
SUMMARY:Small Business Bootcamp
DESCRIPTION:Join HCC’s Small Business Bootcamp\, a quarterly series designed to equip small business owners and decision-makers with actionable strategies to elevate their business. \nHosted by the HCC Retail and Service Committees\, this bootcamp will offer attendees tangible takeaways they can implement immediately in their businesses. Enjoy stationed appetizers and a cash bar while networking with fellow business owners. \nProgram: \n1. Financial Processes You Can’t Ignore (40 minutes)\nDida Clifton\, Founder of TheOfficeSquad\, will walk you through the five things you should always know about your business and how to avoid costly blind spots. \nSpeaker:\nDida Clifton\nFounder\nTheOfficeSquad \n2. Discipline in Action – Strategies for Success (40 minutes)\nHear from an engaging panel on fostering a disciplined yet empowering work environment. Topics will include risk avoidance\, hiring and firing decisions\, navigating real-life conflict and balancing mistakes and success. The panel will answer pressing questions like: “Where do I go if I don’t know?” and “How many strikes and they’re out?” \nModerator: \nNatalie Buckel\nFounder/CEO\nI Want My Two Dollars\, LLC \nPanelists: \nKelly DeGuzman\, VP of Operations\, Junior Achievement of Southern Nevada\nKim Jacobs\, Franchise Owner\, Great Harvest Bread \n3. Post Election Taxes – What to do Now! (40 minutes)\nJohn Wightman\, CPA\, CGMA\, Managing Partner\, Rich Wightman & Company\, will offer tips on what every business can do to reduce taxes. Discover steps to maximize your savings by tackling looming deadlines and taking advantage of expiring deductions and credits. \nHCC Members: $25\nNon-Members: $50\nSpace is Limited\, Register Today!
URL:https://nvcapitalreadiness.org/event/small-business-bootcamp/
LOCATION:Wildhorse Golf Club\, 2100 W Warm Springs Rd\, Henderson\, NV\, 89014\, United States
ATTACH;FMTTYPE=image/jpeg:https://nvcapitalreadiness.org/wp-content/uploads/2025/02/2-18-Small-Business-Bootcamp-Graphic.jpg
END:VEVENT
BEGIN:VEVENT
DTSTART;TZID=America/Los_Angeles:20250218T173000
DTEND;TZID=America/Los_Angeles:20250218T193000
DTSTAMP:20260420T061148
CREATED:20241220T201547Z
LAST-MODIFIED:20250106T181550Z
UID:10000575-1739899800-1739907000@nvcapitalreadiness.org
SUMMARY:NVCRP Business Bootcamp
DESCRIPTION:Join us for an empowering 8-week journey designed to transform your business into a robust business model! Our Nevada Capital Readiness incubator bootcamp is your opportunity to: \nDIVE DEEP INTO YOUR BUSINESS IDEAS. Kom activi value proposition to customer relationships\, key activities & more\, align your business effectively using the Business Model Canvas \nENGAGE WITH EXPERTS: Each session features insights from industry experts to guide you through creating each segment of your business model \nGET RESOURCES: You will receive valuable resources from the Accelerator program\, which includes free ongoing coaching from a Business Advisor. \nPOTENTIAL FUNDING: Participants who complete the Bootcamp may qualify to receive funding for their startups. \nREGISTER HERE \nWeek 1:\nDate: January 7\, 2025\nTopic: Unveiling the Blueprint: Business Model Canvas Overview \nWeek 2:\nDate: January 14\, 2025\nTopic: Crafting Value: Defining Your Unique Value Proposition \nWeek 3:\nDate: January 21\, 2025\nTopic: Building Blocks of Success: Key Partners\, Resources\, and Activities \nWeek 4:\nDate: January 28\, 2025\nTopic: Financial Mastery: Navigating Cost Structures and Revenue Streams \nWeek 5:\nDate: February 4\, 2025\nTopic: Customer Connection: Segmenting and Building Relationships \nWeek 6:\nDate: February 11\, 2025\nTopic: Channeling Success: Discovering Effective Business Channels \nWeek 7:\nDate: February 18\, 2025\nTopic: The Final Piece: Completing Your Business Model Canvas \nWeek 8:\nDate: February 25\, 2025\nTopic: Celebrate & Elevate: Graduation and Future Steps \nLocation: NLVN103
URL:https://nvcapitalreadiness.org/event/nvcrp-business-bootcamp/2025-02-18/
LOCATION:College of Southern Nevada\, 3200 E. Cheyenne Ave.\, N Las Vegas\, 89030\, United States
ATTACH;FMTTYPE=image/png:https://nvcapitalreadiness.org/wp-content/uploads/2024/12/CRP-Bootcamp-Jan-Feb-2025.png
END:VEVENT
END:VCALENDAR