BEGIN:VCALENDAR
VERSION:2.0
PRODID:-//Nevada Capital Readiness Program - ECPv6.15.20//NONSGML v1.0//EN
CALSCALE:GREGORIAN
METHOD:PUBLISH
X-WR-CALNAME:Nevada Capital Readiness Program
X-ORIGINAL-URL:https://nvcapitalreadiness.org
X-WR-CALDESC:Events for Nevada Capital Readiness Program
REFRESH-INTERVAL;VALUE=DURATION:PT1H
X-Robots-Tag:noindex
X-PUBLISHED-TTL:PT1H
BEGIN:VTIMEZONE
TZID:America/Los_Angeles
BEGIN:DAYLIGHT
TZOFFSETFROM:-0800
TZOFFSETTO:-0700
TZNAME:PDT
DTSTART:20240310T100000
END:DAYLIGHT
BEGIN:STANDARD
TZOFFSETFROM:-0700
TZOFFSETTO:-0800
TZNAME:PST
DTSTART:20241103T090000
END:STANDARD
BEGIN:DAYLIGHT
TZOFFSETFROM:-0800
TZOFFSETTO:-0700
TZNAME:PDT
DTSTART:20250309T100000
END:DAYLIGHT
BEGIN:STANDARD
TZOFFSETFROM:-0700
TZOFFSETTO:-0800
TZNAME:PST
DTSTART:20251102T090000
END:STANDARD
BEGIN:DAYLIGHT
TZOFFSETFROM:-0800
TZOFFSETTO:-0700
TZNAME:PDT
DTSTART:20260308T100000
END:DAYLIGHT
BEGIN:STANDARD
TZOFFSETFROM:-0700
TZOFFSETTO:-0800
TZNAME:PST
DTSTART:20261101T090000
END:STANDARD
END:VTIMEZONE
BEGIN:VEVENT
DTSTART;TZID=America/Los_Angeles:20250214T070000
DTEND;TZID=America/Los_Angeles:20250214T123000
DTSTAMP:20260420T061145
CREATED:20250116T151717Z
LAST-MODIFIED:20250116T151717Z
UID:10000608-1739516400-1739536200@nvcapitalreadiness.org
SUMMARY:Silver State Grant Conference
DESCRIPTION:Welcome to the 2025 Silver State Grant Conference! \nJoin us for Nevada’s premier event for grant management professionals from both the public and private sectors. This conference brings together nationally renowned experts to share cutting-edge insights\, practical techniques\, and innovative strategies to help you excel in the competitive world of grant management. \nWhether you’re new to grant management or a seasoned professional\, this event offers something for everyone. Participate in interactive workshops\, attend thought-provoking sessions\, and engage in meaningful networking opportunities with peers and experts from across the state. \nPrepare to sharpen your skills\, gain new perspectives\, and expand your professional network at the 2025 Silver State Grant Conference. Together\, we will explore the future of grant management and unlock new possibilities for success! \nKey Features:\n\nExpert-Led Sessions: Learn from top grant management professionals and gain access to the latest trends and tools in the field.\nWorkshops: Hands-on learning opportunities to improve your grant writing and management skills.\nNetworking: Build valuable connections with grant professionals\, funders\, and industry leaders from across Nevada.
URL:https://nvcapitalreadiness.org/event/silver-state-grant-conference/2025-02-14/
LOCATION:Peppermill Resort Spa Casino / Reno\, NV\, 2707 S Virginia St\, Reno\, NV\, 89502\, United States
ATTACH;FMTTYPE=image/png:https://nvcapitalreadiness.org/wp-content/uploads/2025/01/Screenshot-2025-01-16-at-7.10.26 AM.png
END:VEVENT
END:VCALENDAR