BEGIN:VCALENDAR
VERSION:2.0
PRODID:-//Nevada Capital Readiness Program - ECPv6.15.20//NONSGML v1.0//EN
CALSCALE:GREGORIAN
METHOD:PUBLISH
X-WR-CALNAME:Nevada Capital Readiness Program
X-ORIGINAL-URL:https://nvcapitalreadiness.org
X-WR-CALDESC:Events for Nevada Capital Readiness Program
REFRESH-INTERVAL;VALUE=DURATION:PT1H
X-Robots-Tag:noindex
X-PUBLISHED-TTL:PT1H
BEGIN:VTIMEZONE
TZID:America/Los_Angeles
BEGIN:DAYLIGHT
TZOFFSETFROM:-0800
TZOFFSETTO:-0700
TZNAME:PDT
DTSTART:20240310T100000
END:DAYLIGHT
BEGIN:STANDARD
TZOFFSETFROM:-0700
TZOFFSETTO:-0800
TZNAME:PST
DTSTART:20241103T090000
END:STANDARD
BEGIN:DAYLIGHT
TZOFFSETFROM:-0800
TZOFFSETTO:-0700
TZNAME:PDT
DTSTART:20250309T100000
END:DAYLIGHT
BEGIN:STANDARD
TZOFFSETFROM:-0700
TZOFFSETTO:-0800
TZNAME:PST
DTSTART:20251102T090000
END:STANDARD
BEGIN:DAYLIGHT
TZOFFSETFROM:-0800
TZOFFSETTO:-0700
TZNAME:PDT
DTSTART:20260308T100000
END:DAYLIGHT
BEGIN:STANDARD
TZOFFSETFROM:-0700
TZOFFSETTO:-0800
TZNAME:PST
DTSTART:20261101T090000
END:STANDARD
END:VTIMEZONE
BEGIN:VEVENT
DTSTART;TZID=America/Los_Angeles:20250208T100000
DTEND;TZID=America/Los_Angeles:20250208T230000
DTSTAMP:20260420T061739
CREATED:20250204T182202Z
LAST-MODIFIED:20250204T182202Z
UID:10000637-1739008800-1739055600@nvcapitalreadiness.org
SUMMARY:AI Essentials for Small Business: Marketing Made Simple
DESCRIPTION:This is a hybrid event. The classroom is full but we are still accepting online attendance. Sign For Online \nAre You Hesitant to Use AI in Your Marketing?\nYou’re not alone. Many small business owners and startups face these challenges: \n\nNot knowing where to start or how to use AI the right way.\nFeeling like AI tools are too generic\, robotic\, and don’t perform.\nStruggling with too many tools and not knowing which ones are worth it.\nDealing with tech overwhelm and no clear strategy to tie it all together.\nWorrying about the ethical concerns of AI and how to use it responsibly.\nFeeling like everyone teaching AI just wants to profit off of you without really helping.\n\nThe Solution? A Clear\, Ethical\, and Practical Approach to AI in Marketing.\nJoin our free AI Essentials for Small Business workshop series to: \n\nUnderstand how to use AI tools effectively and ethically.\nLearn strategies to make AI content feel personal\, not robotic.\nSimplify your tech stack with tools that actually work.\nDiscover a step-by-step strategy tailored to your business goals.\n\nWorkshop 1: Foundations of Marketing Strategy with AI\nWorkshop 2: Building a Brand Strategy with AI\nWorkshop 3: Content Creation Made Easy with AI\nWorkshop 4: Automating Your Marketing with AI\nWorkshop 5: Creating a 90-Day Marketing Plan with AI
URL:https://nvcapitalreadiness.org/event/ai-essentials-for-small-business-marketing-made-simple/2025-02-08/
LOCATION:8400 W Sunset Rd #300\, 8400 W Sunset Rd #300\, Las Vegaas\, NV\, 89113\, United States
ATTACH;FMTTYPE=image/png:https://nvcapitalreadiness.org/wp-content/uploads/2025/02/image_321130D2-8BC2-4AE5-A13A-334099CA90DA.png
END:VEVENT
END:VCALENDAR