BEGIN:VCALENDAR
VERSION:2.0
PRODID:-//Nevada Capital Readiness Program - ECPv6.15.20//NONSGML v1.0//EN
CALSCALE:GREGORIAN
METHOD:PUBLISH
X-ORIGINAL-URL:https://nvcapitalreadiness.org
X-WR-CALDESC:Events for Nevada Capital Readiness Program
REFRESH-INTERVAL;VALUE=DURATION:PT1H
X-Robots-Tag:noindex
X-PUBLISHED-TTL:PT1H
BEGIN:VTIMEZONE
TZID:America/Los_Angeles
BEGIN:DAYLIGHT
TZOFFSETFROM:-0800
TZOFFSETTO:-0700
TZNAME:PDT
DTSTART:20240310T100000
END:DAYLIGHT
BEGIN:STANDARD
TZOFFSETFROM:-0700
TZOFFSETTO:-0800
TZNAME:PST
DTSTART:20241103T090000
END:STANDARD
BEGIN:DAYLIGHT
TZOFFSETFROM:-0800
TZOFFSETTO:-0700
TZNAME:PDT
DTSTART:20250309T100000
END:DAYLIGHT
BEGIN:STANDARD
TZOFFSETFROM:-0700
TZOFFSETTO:-0800
TZNAME:PST
DTSTART:20251102T090000
END:STANDARD
BEGIN:DAYLIGHT
TZOFFSETFROM:-0800
TZOFFSETTO:-0700
TZNAME:PDT
DTSTART:20260308T100000
END:DAYLIGHT
BEGIN:STANDARD
TZOFFSETFROM:-0700
TZOFFSETTO:-0800
TZNAME:PST
DTSTART:20261101T090000
END:STANDARD
END:VTIMEZONE
BEGIN:VEVENT
DTSTART;TZID=America/Los_Angeles:20250207T100000
DTEND;TZID=America/Los_Angeles:20250207T110000
DTSTAMP:20260420T061901
CREATED:20250204T175646Z
LAST-MODIFIED:20250204T175646Z
UID:10000636-1738922400-1738926000@nvcapitalreadiness.org
SUMMARY:Top AI Marketing Tools for 2025
DESCRIPTION:Marketing in today’s fast-paced\, digital-first world requires strategies that are not only effective but efficient. Traditional techniques can be costly\, time-consuming\, and often fail to enable you to reach the right audience or nurture meaningful connections. Fortunately\, AI marketing tools have revolutionized how businesses engage with customers\, making it easier than ever to achieve your growth objectives\, even on a tight budget. \nThe Nasdaq Center is thrilled to be joined by Cliff Worley\, who heads up portfolio marketing at Kapor Capital and is a member of the Center’s Advisory Board\, to explore how to leverage the latest AI-powered tools\, trends\, and strategies to optimize your marketing efforts. No matter where you are on your entrepreneurial journey\, this session will provide valuable insight into how AI is transforming the marketing landscape. Join us to learn how you can use AI marketing tools to enable smarter decision-making\, streamline processes\, and deliver personalized experiences at scale! \nKey Takeaways: \n\nExplore the latest tools and trends to streamline your marketing efforts and maximize efficiency.\nLearn AI-powered strategies to grow your business on a tight budget.\nDiscover how AI can enhance data-driven decision-making and help you reach your target audience and engage your ideal customers.
URL:https://nvcapitalreadiness.org/event/top-ai-marketing-tools-for-2025/
LOCATION:NV
ATTACH;FMTTYPE=image/jpeg:https://nvcapitalreadiness.org/wp-content/uploads/2025/02/https-cdn.evbuc_.com-images-948287463-148118300760-1-original.20250130-051841.jpeg
END:VEVENT
END:VCALENDAR