BEGIN:VCALENDAR
VERSION:2.0
PRODID:-//Nevada Capital Readiness Program - ECPv6.15.20//NONSGML v1.0//EN
CALSCALE:GREGORIAN
METHOD:PUBLISH
X-WR-CALNAME:Nevada Capital Readiness Program
X-ORIGINAL-URL:https://nvcapitalreadiness.org
X-WR-CALDESC:Events for Nevada Capital Readiness Program
REFRESH-INTERVAL;VALUE=DURATION:PT1H
X-Robots-Tag:noindex
X-PUBLISHED-TTL:PT1H
BEGIN:VTIMEZONE
TZID:America/Los_Angeles
BEGIN:DAYLIGHT
TZOFFSETFROM:-0800
TZOFFSETTO:-0700
TZNAME:PDT
DTSTART:20240310T100000
END:DAYLIGHT
BEGIN:STANDARD
TZOFFSETFROM:-0700
TZOFFSETTO:-0800
TZNAME:PST
DTSTART:20241103T090000
END:STANDARD
BEGIN:DAYLIGHT
TZOFFSETFROM:-0800
TZOFFSETTO:-0700
TZNAME:PDT
DTSTART:20250309T100000
END:DAYLIGHT
BEGIN:STANDARD
TZOFFSETFROM:-0700
TZOFFSETTO:-0800
TZNAME:PST
DTSTART:20251102T090000
END:STANDARD
BEGIN:DAYLIGHT
TZOFFSETFROM:-0800
TZOFFSETTO:-0700
TZNAME:PDT
DTSTART:20260308T100000
END:DAYLIGHT
BEGIN:STANDARD
TZOFFSETFROM:-0700
TZOFFSETTO:-0800
TZNAME:PST
DTSTART:20261101T090000
END:STANDARD
END:VTIMEZONE
BEGIN:VEVENT
DTSTART;TZID=America/Los_Angeles:20250206T090000
DTEND;TZID=America/Los_Angeles:20250206T110000
DTSTAMP:20260420T061739
CREATED:20241227T175253Z
LAST-MODIFIED:20241227T175253Z
UID:10000591-1738832400-1738839600@nvcapitalreadiness.org
SUMMARY:Money Smart Workshop - Organizational Types
DESCRIPTION:The UNR Extension in partnership with the Urban Chamber will be hosting the Money Smart Workshop series for small businesses. This 13-week series delves into the ins and outs of business finances. This curriculum was created by FDIC\, to help small businesses enhance their financial skills and create positive banking relationships.
URL:https://nvcapitalreadiness.org/event/money-smart-workshop-organizational-types/
LOCATION:UNR Extension\, 2280 N McDaniel Street\, North Las Vegas\, NV\, 89030\, United States
ATTACH;FMTTYPE=image/png:https://nvcapitalreadiness.org/wp-content/uploads/2024/12/2-MoneySmartFlyer2025-1.png
END:VEVENT
BEGIN:VEVENT
DTSTART;TZID=America/Los_Angeles:20250206T150000
DTEND;TZID=America/Los_Angeles:20250206T163000
DTSTAMP:20260420T061740
CREATED:20241220T212117Z
LAST-MODIFIED:20241220T212117Z
UID:10000582-1738854000-1738859400@nvcapitalreadiness.org
SUMMARY:Tax Workshop for Small Business Owners & Entrepreneurs
DESCRIPTION:NV Grow is partnering with the IRS to provide an in-depth virtual workshop to help entrepreneurs navigate IRS regulations and requirements.  This series of classes will begin December 12th and will continue every Thursday for 6 to 8 weeks (excluding December 26th & January 2nd) . To register and for more information\, please refer to the sign up pages below: \nLesson 1 – Dec 19\, 2024 at 3PM\nhttps://sbed.ecenterdirect.com/events/1019099\n\n  \n\nLesson 2  – Jan 9\, 2024 at 3PM\nhttps://sbed.ecenterdirect.com/events/1019100\n\n  \n\nLesson 3 – Jan 16\, 2024 at 3PM\nhttps://sbed.ecenterdirect.com/events/1019101\n\n  \n\nLesson 4 – Jan 23\, 2024 at 3PM\nhttps://sbed.ecenterdirect.com/events/1019102\n\n  \n\nLesson 5 – Jan 30\, 2024 at 3PM\nhttps://sbed.ecenterdirect.com/events/1019103\n\n  \n\nLesson 6 – Feb 6\, 2024 at 3PM\nhttps://sbed.ecenterdirect.com/events/1019104 \n\n  \n\nLesson 7 – Feb 13\, 2024 at 3PM\nhttps://sbed.ecenterdirect.com/events/1019105\n\n  \n\nLesson 8 – Feb 20\, 2024 at 3PM\nhttps://sbed.ecenterdirect.com/events/1019106
URL:https://nvcapitalreadiness.org/event/tax-workshop-for-small-business-owners-entrepreneurs/2025-02-06/
LOCATION:NV
ATTACH;FMTTYPE=image/webp:https://nvcapitalreadiness.org/wp-content/uploads/2024/12/tax.webp
END:VEVENT
BEGIN:VEVENT
DTSTART;TZID=America/Los_Angeles:20250206T170000
DTEND;TZID=America/Los_Angeles:20250206T183000
DTSTAMP:20260420T061740
CREATED:20250204T193916Z
LAST-MODIFIED:20250204T194113Z
UID:10000653-1738861200-1738866600@nvcapitalreadiness.org
SUMMARY:Construction 2.0 Workshop
DESCRIPTION:Date/Time: \n\n\n\nSession #1\n2/6/2025\n5:00 PM\n– 6:30 PM (PST)\n\n\n\nSession #2\n2/13/2025\n5:00 PM\n– 6:30 PM (PST)\n\n\n\nSession #3\n2/20/2025\n5:00 PM\n– 6:30 PM (PST)\n\n\n\nSession #4\n2/27/2025\n5:00 PM\n– 6:30 PM (PST)\n\n\n\nSession #5\n3/6/2025\n5:00 PM\n– 6:30 PM (PST)\n\n\n\nSession #6\n3/13/2025\n5:00 PM\n– 6:30 PM (PDT)\n\n\n\n\nRegistration Deadline: 2/6/2025 8:00 AM (PST)\nFee: No Fee \nPoint of Contact: George Garcia\nLocation: 8400 W Sunset Rd\, Las Vegas NV 89113-2283 \nTraining Topics: Business Start-up/Preplanning\, Legal Issues\, Managing a Business\nDescription: \n\nJoin us\, in collaboration with UNLV’s Office of Economic Development\, and the Nevada State Contractors Board\, for an empowering 6-week\, in-person course dedicated to construction marketing! This program covers essential strategies for winning contracts\, establishing a strong marketing foundation\, and creating impactful capability statements. Learn directly from seasoned professionals\, connect with experienced contractors\, and benefit from expert guidance from business advisors. Don’t miss this opportunity to sharpen your skills\, expand your network\, and gain the tools to elevate your contracting business! \n 
URL:https://nvcapitalreadiness.org/event/construction-2-0-workshop-3/2025-02-06/
LOCATION:8400 W Sunset Rd\, 8400 W Sunset Rd\, Las Vegas\, NV\, 89113\, United States
ATTACH;FMTTYPE=image/png:https://nvcapitalreadiness.org/wp-content/uploads/2025/02/image_D2B32EDA-3C8A-4828-AE11-9747D411E5B1.png
END:VEVENT
END:VCALENDAR