BEGIN:VCALENDAR
VERSION:2.0
PRODID:-//Nevada Capital Readiness Program - ECPv6.15.20//NONSGML v1.0//EN
CALSCALE:GREGORIAN
METHOD:PUBLISH
X-ORIGINAL-URL:https://nvcapitalreadiness.org
X-WR-CALDESC:Events for Nevada Capital Readiness Program
REFRESH-INTERVAL;VALUE=DURATION:PT1H
X-Robots-Tag:noindex
X-PUBLISHED-TTL:PT1H
BEGIN:VTIMEZONE
TZID:America/Los_Angeles
BEGIN:DAYLIGHT
TZOFFSETFROM:-0800
TZOFFSETTO:-0700
TZNAME:PDT
DTSTART:20240310T100000
END:DAYLIGHT
BEGIN:STANDARD
TZOFFSETFROM:-0700
TZOFFSETTO:-0800
TZNAME:PST
DTSTART:20241103T090000
END:STANDARD
BEGIN:DAYLIGHT
TZOFFSETFROM:-0800
TZOFFSETTO:-0700
TZNAME:PDT
DTSTART:20250309T100000
END:DAYLIGHT
BEGIN:STANDARD
TZOFFSETFROM:-0700
TZOFFSETTO:-0800
TZNAME:PST
DTSTART:20251102T090000
END:STANDARD
BEGIN:DAYLIGHT
TZOFFSETFROM:-0800
TZOFFSETTO:-0700
TZNAME:PDT
DTSTART:20260308T100000
END:DAYLIGHT
BEGIN:STANDARD
TZOFFSETFROM:-0700
TZOFFSETTO:-0800
TZNAME:PST
DTSTART:20261101T090000
END:STANDARD
END:VTIMEZONE
BEGIN:VEVENT
DTSTART;TZID=America/Los_Angeles:20250131T090000
DTEND;TZID=America/Los_Angeles:20250131T103000
DTSTAMP:20260420T044957
CREATED:20250108T174900Z
LAST-MODIFIED:20250108T174900Z
UID:10000606-1738314000-1738319400@nvcapitalreadiness.org
SUMMARY:USING REFERENCE SOLUTIONS TO GROW YOUR SMALL BUSINESS
DESCRIPTION:Reference Solutions is a set of databases that allows you to download records of your target market prospects for free. These databases can be found within the Clark County and Northern Las Vegas Library systems. Utilizing this available data will provide invaluable guidance on how to better manage many aspects of your business. In this session\, you will learn how to access Reference Solutions from home for free with your library card\, identify new sales prospects\, create customized business & consumer marketing lists\, identify key business contacts\, locate home-based businesses\, find businesses with web addresses\, gather competitive business intelligence and much more. Learn more about Reference Solutions and how it can support your business strategies and growth plans.
URL:https://nvcapitalreadiness.org/event/using-reference-solutions-to-grow-your-small-business/
LOCATION:NV
ATTACH;FMTTYPE=image/avif:https://nvcapitalreadiness.org/wp-content/uploads/2025/01/data_0.jpg.avif
END:VEVENT
END:VCALENDAR