BEGIN:VCALENDAR
VERSION:2.0
PRODID:-//Nevada Capital Readiness Program - ECPv6.15.20//NONSGML v1.0//EN
CALSCALE:GREGORIAN
METHOD:PUBLISH
X-WR-CALNAME:Nevada Capital Readiness Program
X-ORIGINAL-URL:https://nvcapitalreadiness.org
X-WR-CALDESC:Events for Nevada Capital Readiness Program
REFRESH-INTERVAL;VALUE=DURATION:PT1H
X-Robots-Tag:noindex
X-PUBLISHED-TTL:PT1H
BEGIN:VTIMEZONE
TZID:America/Los_Angeles
BEGIN:DAYLIGHT
TZOFFSETFROM:-0800
TZOFFSETTO:-0700
TZNAME:PDT
DTSTART:20240310T100000
END:DAYLIGHT
BEGIN:STANDARD
TZOFFSETFROM:-0700
TZOFFSETTO:-0800
TZNAME:PST
DTSTART:20241103T090000
END:STANDARD
BEGIN:DAYLIGHT
TZOFFSETFROM:-0800
TZOFFSETTO:-0700
TZNAME:PDT
DTSTART:20250309T100000
END:DAYLIGHT
BEGIN:STANDARD
TZOFFSETFROM:-0700
TZOFFSETTO:-0800
TZNAME:PST
DTSTART:20251102T090000
END:STANDARD
BEGIN:DAYLIGHT
TZOFFSETFROM:-0800
TZOFFSETTO:-0700
TZNAME:PDT
DTSTART:20260308T100000
END:DAYLIGHT
BEGIN:STANDARD
TZOFFSETFROM:-0700
TZOFFSETTO:-0800
TZNAME:PST
DTSTART:20261101T090000
END:STANDARD
END:VTIMEZONE
BEGIN:VEVENT
DTSTART;TZID=America/Los_Angeles:20250122T090000
DTEND;TZID=America/Los_Angeles:20250122T103000
DTSTAMP:20260420T044015
CREATED:20250108T174938Z
LAST-MODIFIED:20250108T174938Z
UID:10000605-1737536400-1737541800@nvcapitalreadiness.org
SUMMARY:SILVERFLUME\, NEVADA'S FIRST STOP FOR BUSINESS REGISTRATION
DESCRIPTION:SilverFlume is Nevada’s one-stop business portal\, providing businesses with a single online location for conducting transactions with state agencies to save time and paperwork associated with licensing\, permitting\, taxation\, and other transactions with the government. In this workshop\, someone from The Nevada Secretary of State’s office will walk you through SilverFlume\, and answer questions from attendees.
URL:https://nvcapitalreadiness.org/event/silverflume-nevadas-first-stop-for-business-registration-3/
LOCATION:NV
ATTACH;FMTTYPE=image/png:https://nvcapitalreadiness.org/wp-content/uploads/2024/02/Silver.png
END:VEVENT
END:VCALENDAR