BEGIN:VCALENDAR
VERSION:2.0
PRODID:-//Nevada Capital Readiness Program - ECPv6.15.20//NONSGML v1.0//EN
CALSCALE:GREGORIAN
METHOD:PUBLISH
X-ORIGINAL-URL:https://nvcapitalreadiness.org
X-WR-CALDESC:Events for Nevada Capital Readiness Program
REFRESH-INTERVAL;VALUE=DURATION:PT1H
X-Robots-Tag:noindex
X-PUBLISHED-TTL:PT1H
BEGIN:VTIMEZONE
TZID:America/Los_Angeles
BEGIN:DAYLIGHT
TZOFFSETFROM:-0800
TZOFFSETTO:-0700
TZNAME:PDT
DTSTART:20240310T100000
END:DAYLIGHT
BEGIN:STANDARD
TZOFFSETFROM:-0700
TZOFFSETTO:-0800
TZNAME:PST
DTSTART:20241103T090000
END:STANDARD
BEGIN:DAYLIGHT
TZOFFSETFROM:-0800
TZOFFSETTO:-0700
TZNAME:PDT
DTSTART:20250309T100000
END:DAYLIGHT
BEGIN:STANDARD
TZOFFSETFROM:-0700
TZOFFSETTO:-0800
TZNAME:PST
DTSTART:20251102T090000
END:STANDARD
BEGIN:DAYLIGHT
TZOFFSETFROM:-0800
TZOFFSETTO:-0700
TZNAME:PDT
DTSTART:20260308T100000
END:DAYLIGHT
BEGIN:STANDARD
TZOFFSETFROM:-0700
TZOFFSETTO:-0800
TZNAME:PST
DTSTART:20261101T090000
END:STANDARD
END:VTIMEZONE
BEGIN:VEVENT
DTSTART;TZID=America/Los_Angeles:20250109T150000
DTEND;TZID=America/Los_Angeles:20250109T163000
DTSTAMP:20260420T044318
CREATED:20241220T212117Z
LAST-MODIFIED:20241220T212117Z
UID:10000578-1736434800-1736440200@nvcapitalreadiness.org
SUMMARY:Tax Workshop for Small Business Owners & Entrepreneurs
DESCRIPTION:NV Grow is partnering with the IRS to provide an in-depth virtual workshop to help entrepreneurs navigate IRS regulations and requirements.  This series of classes will begin December 12th and will continue every Thursday for 6 to 8 weeks (excluding December 26th & January 2nd) . To register and for more information\, please refer to the sign up pages below: \nLesson 1 – Dec 19\, 2024 at 3PM\nhttps://sbed.ecenterdirect.com/events/1019099\n\n  \n\nLesson 2  – Jan 9\, 2024 at 3PM\nhttps://sbed.ecenterdirect.com/events/1019100\n\n  \n\nLesson 3 – Jan 16\, 2024 at 3PM\nhttps://sbed.ecenterdirect.com/events/1019101\n\n  \n\nLesson 4 – Jan 23\, 2024 at 3PM\nhttps://sbed.ecenterdirect.com/events/1019102\n\n  \n\nLesson 5 – Jan 30\, 2024 at 3PM\nhttps://sbed.ecenterdirect.com/events/1019103\n\n  \n\nLesson 6 – Feb 6\, 2024 at 3PM\nhttps://sbed.ecenterdirect.com/events/1019104 \n\n  \n\nLesson 7 – Feb 13\, 2024 at 3PM\nhttps://sbed.ecenterdirect.com/events/1019105\n\n  \n\nLesson 8 – Feb 20\, 2024 at 3PM\nhttps://sbed.ecenterdirect.com/events/1019106
URL:https://nvcapitalreadiness.org/event/tax-workshop-for-small-business-owners-entrepreneurs/2025-01-09/
LOCATION:NV
ATTACH;FMTTYPE=image/webp:https://nvcapitalreadiness.org/wp-content/uploads/2024/12/tax.webp
END:VEVENT
END:VCALENDAR