BEGIN:VCALENDAR
VERSION:2.0
PRODID:-//Nevada Capital Readiness Program - ECPv6.15.20//NONSGML v1.0//EN
CALSCALE:GREGORIAN
METHOD:PUBLISH
X-ORIGINAL-URL:https://nvcapitalreadiness.org
X-WR-CALDESC:Events for Nevada Capital Readiness Program
REFRESH-INTERVAL;VALUE=DURATION:PT1H
X-Robots-Tag:noindex
X-PUBLISHED-TTL:PT1H
BEGIN:VTIMEZONE
TZID:America/Los_Angeles
BEGIN:DAYLIGHT
TZOFFSETFROM:-0800
TZOFFSETTO:-0700
TZNAME:PDT
DTSTART:20240310T100000
END:DAYLIGHT
BEGIN:STANDARD
TZOFFSETFROM:-0700
TZOFFSETTO:-0800
TZNAME:PST
DTSTART:20241103T090000
END:STANDARD
BEGIN:DAYLIGHT
TZOFFSETFROM:-0800
TZOFFSETTO:-0700
TZNAME:PDT
DTSTART:20250309T100000
END:DAYLIGHT
BEGIN:STANDARD
TZOFFSETFROM:-0700
TZOFFSETTO:-0800
TZNAME:PST
DTSTART:20251102T090000
END:STANDARD
BEGIN:DAYLIGHT
TZOFFSETFROM:-0800
TZOFFSETTO:-0700
TZNAME:PDT
DTSTART:20260308T100000
END:DAYLIGHT
BEGIN:STANDARD
TZOFFSETFROM:-0700
TZOFFSETTO:-0800
TZNAME:PST
DTSTART:20261101T090000
END:STANDARD
END:VTIMEZONE
BEGIN:VEVENT
DTSTART;TZID=America/Los_Angeles:20250108T110000
DTEND;TZID=America/Los_Angeles:20250108T130000
DTSTAMP:20260420T044248
CREATED:20241223T183423Z
LAST-MODIFIED:20241230T213441Z
UID:10000587-1736334000-1736341200@nvcapitalreadiness.org
SUMMARY:NV Grow CommUNITY Expo Success Summit
DESCRIPTION:NV Grow CommUNITY Expo Success Summit\, an event celebrating collaboration\, diversity\, and small business success. \nEvent Details: \n\nDate: Wednesday\, January 8\, 2025\nTime: 11:00 AM – 1:00 PM\nLocation: Tyrone Thompson Student Union Ballrooms\, CSN North Las Vegas Campus\n\nThis event brings together NV Grow stakeholders and community partners to foster networking\, exposure\, and meaningful connections. \nEvent Highlights: \n\nShowcase of diverse local businesses supported by NV Grow and our chamber partners\nOpportunities for networking with businesses and community leaders\nStakeholder panel discussions focusing on 2025 goals\nTestimonials highlighting business success stories\nKeynote address by a small business professional\n\n 
URL:https://nvcapitalreadiness.org/event/nv-grow-community-expo-success-summit/
LOCATION:Tyrone Thompson Student Union Ballrooms\, CSN North Las Vegas Campus\, 3200 E Cheyenne Ave\, North Las Vegas\, NV\, 89030\, United States
ATTACH;FMTTYPE=image/png:https://nvcapitalreadiness.org/wp-content/uploads/2024/12/flyer-CommUNITY-Expo-1.png
END:VEVENT
END:VCALENDAR