BEGIN:VCALENDAR
VERSION:2.0
PRODID:-//Nevada Capital Readiness Program - ECPv6.15.20//NONSGML v1.0//EN
CALSCALE:GREGORIAN
METHOD:PUBLISH
X-ORIGINAL-URL:https://nvcapitalreadiness.org
X-WR-CALDESC:Events for Nevada Capital Readiness Program
REFRESH-INTERVAL;VALUE=DURATION:PT1H
X-Robots-Tag:noindex
X-PUBLISHED-TTL:PT1H
BEGIN:VTIMEZONE
TZID:America/Los_Angeles
BEGIN:DAYLIGHT
TZOFFSETFROM:-0800
TZOFFSETTO:-0700
TZNAME:PDT
DTSTART:20230312T100000
END:DAYLIGHT
BEGIN:STANDARD
TZOFFSETFROM:-0700
TZOFFSETTO:-0800
TZNAME:PST
DTSTART:20231105T090000
END:STANDARD
BEGIN:DAYLIGHT
TZOFFSETFROM:-0800
TZOFFSETTO:-0700
TZNAME:PDT
DTSTART:20240310T100000
END:DAYLIGHT
BEGIN:STANDARD
TZOFFSETFROM:-0700
TZOFFSETTO:-0800
TZNAME:PST
DTSTART:20241103T090000
END:STANDARD
BEGIN:DAYLIGHT
TZOFFSETFROM:-0800
TZOFFSETTO:-0700
TZNAME:PDT
DTSTART:20250309T100000
END:DAYLIGHT
BEGIN:STANDARD
TZOFFSETFROM:-0700
TZOFFSETTO:-0800
TZNAME:PST
DTSTART:20251102T090000
END:STANDARD
END:VTIMEZONE
BEGIN:VEVENT
DTSTART;TZID=America/Los_Angeles:20241207T083000
DTEND;TZID=America/Los_Angeles:20241207T123000
DTSTAMP:20260420T033749
CREATED:20241112T191712Z
LAST-MODIFIED:20241112T191712Z
UID:10000555-1733560200-1733574600@nvcapitalreadiness.org
SUMMARY:Small Business Conference
DESCRIPTION:Date: 12/7/2024\nTime: 8:30 AM – 12:30 PM (PST)\nRegistration Deadline: 12/6/2024 5:00 PM (PST)\nFee: No Fee \nPoint of Contact: Lisa Tolliver\nLocation: 2280 N McDaniel Street\, North Las Vegas NV 89030-6323 \nTraining Topics: Managing a Business\nDescription: \n\nSmall Business Saturday \nJoin us for Nevada’s Small Business Saturday Conference. Entrepreneurs and small business owners are encouraged to join us to learn\, network\, and grow.
URL:https://nvcapitalreadiness.org/event/small-business-conference/
LOCATION:UNR Extension\, 2280 N McDaniel Street\, North Las Vegas\, NV\, 89030\, United States
ATTACH;FMTTYPE=image/png:https://nvcapitalreadiness.org/wp-content/uploads/2024/11/4413ca3e-b119-43d2-9371-b8d449186bf8.png
END:VEVENT
END:VCALENDAR