BEGIN:VCALENDAR
VERSION:2.0
PRODID:-//Nevada Capital Readiness Program - ECPv6.15.20//NONSGML v1.0//EN
CALSCALE:GREGORIAN
METHOD:PUBLISH
X-WR-CALNAME:Nevada Capital Readiness Program
X-ORIGINAL-URL:https://nvcapitalreadiness.org
X-WR-CALDESC:Events for Nevada Capital Readiness Program
REFRESH-INTERVAL;VALUE=DURATION:PT1H
X-Robots-Tag:noindex
X-PUBLISHED-TTL:PT1H
BEGIN:VTIMEZONE
TZID:America/Los_Angeles
BEGIN:DAYLIGHT
TZOFFSETFROM:-0800
TZOFFSETTO:-0700
TZNAME:PDT
DTSTART:20230312T100000
END:DAYLIGHT
BEGIN:STANDARD
TZOFFSETFROM:-0700
TZOFFSETTO:-0800
TZNAME:PST
DTSTART:20231105T090000
END:STANDARD
BEGIN:DAYLIGHT
TZOFFSETFROM:-0800
TZOFFSETTO:-0700
TZNAME:PDT
DTSTART:20240310T100000
END:DAYLIGHT
BEGIN:STANDARD
TZOFFSETFROM:-0700
TZOFFSETTO:-0800
TZNAME:PST
DTSTART:20241103T090000
END:STANDARD
BEGIN:DAYLIGHT
TZOFFSETFROM:-0800
TZOFFSETTO:-0700
TZNAME:PDT
DTSTART:20250309T100000
END:DAYLIGHT
BEGIN:STANDARD
TZOFFSETFROM:-0700
TZOFFSETTO:-0800
TZNAME:PST
DTSTART:20251102T090000
END:STANDARD
END:VTIMEZONE
BEGIN:VEVENT
DTSTART;TZID=America/Los_Angeles:20241204T100000
DTEND;TZID=America/Los_Angeles:20241204T110000
DTSTAMP:20260420T013817
CREATED:20241203T224951Z
LAST-MODIFIED:20241203T224951Z
UID:10000567-1733306400-1733310000@nvcapitalreadiness.org
SUMMARY:Beneficial Ownership Information (BOI) Reporting - What you need to know
DESCRIPTION:In 2021\, Congress enacted the bipartisan Corporate Transparency Act to curb illicit finance. This law requires many companies doing business in the United States to report information about who ultimately owns or controls them to the Financial Crimes Enforcement Network (FinCEN)\, which is part of the U.S. Treasury. \nBeginning on January 1\, 2024\, many companies in the United States will have to report information about their beneficial owners\, i.e.\, the individuals who ultimately own or control the company. \nCompanies that are required to comply (“reporting companies”) must file their initial reports by the following deadlines: \n\nExisting companies: Reporting companies created or registered to do business in the United States before January 1\, 2024 must file by January 1\, 2025.\nNewly created or registered companies: Reporting companies created or registered to do business in the United States in 2024 have 90 calendar days to file after receiving actual or public notice that their company’s creation or registration is effective. Beginning in 2025\, newly created or registered companies will have 30 days.\n\nWebinar \nJoin us this week as we host Phil Lam from FinCEN\, to learn more about the BOI reporting requirements\, exemptions\, how and where to file your report\, and a walk-through of the filing process. We will have time for audience Q&A as well. \nGuest Speaker \nPhil Lam | Beneficial Ownership Operation and Innovation Chief\, FinCEN \nPhil Lam leads the effort to enhance transparency of corporate ownership for the Financial Crimes Enforcement Network (FinCEN)\, a bureau of the U.S. Department of the Treasury. FinCEN safeguards the U.S. financial system by investigating money laundering\, terrorism financing\, and other financial crimes. With over 15 years of experience\, Phil has worked as a management consultant\, product development leader\, and strategist. In 2013\, he served on a White House initiative to promote trusted digital identities\, where he led government investments in innovative technologies on strong authentication\, identity verification\, and privacy preserving architectures. Phil holds a Bachelor of Science in Computer Engineering from Northwestern University and an MBA from Purdue University.
URL:https://nvcapitalreadiness.org/event/beneficial-ownership-information-boi-reporting-what-you-need-to-know/
LOCATION:NV
ATTACH;FMTTYPE=image/jpeg:https://nvcapitalreadiness.org/wp-content/uploads/2024/12/https-cdn.evbuc_.com-images-892463973-132001116724-1-original.20241105-200706.jpeg
END:VEVENT
BEGIN:VEVENT
DTSTART;TZID=America/Los_Angeles:20241204T140000
DTEND;TZID=America/Los_Angeles:20241204T160000
DTSTAMP:20260420T013817
CREATED:20240903T174642Z
LAST-MODIFIED:20240903T174642Z
UID:10000489-1733320800-1733328000@nvcapitalreadiness.org
SUMMARY:Pitch Day For $100K
DESCRIPTION:Our Favorite Day of the Week is Pitch Day! \nWhen and Where \nPitch Day happens every other Wednesday at the International Innovation Center in Downtown Las Vegas\, and virtually from anywhere in Nevada\, from 2-4pm. \nWhat is Pitch Day? \nPitch day features Nevada-based startups that are pitching for acceptance into StartUpNV’s most advanced program for founders\, AccelerateNV\, which includes a $100k investment and access to resources and support to accelerate the growth of their company. While investment decisions are not made during this live event\, StartUpNV invites investors\, founders\, and other members of Nevada’s startup ecosystem to attend these pitch days\, and see what many exciting innovations are being built right here at home\, plus the types of questions investors ask potential startup investments. \nLearn more about AccelerateNV \nApply to pitch \nSubscribe to newsletter \nPitch Day Zoom Link
URL:https://nvcapitalreadiness.org/event/pitch-day-for-100k-2/2024-12-04/
LOCATION:International Innovation Center\, 300 S 4th St\, Las Vegas\, NV\, 89101\, United States
ATTACH;FMTTYPE=image/png:https://nvcapitalreadiness.org/wp-content/uploads/2024/09/pitchday.png
END:VEVENT
BEGIN:VEVENT
DTSTART;TZID=America/Los_Angeles:20241204T173000
DTEND;TZID=America/Los_Angeles:20241204T193000
DTSTAMP:20260420T013817
CREATED:20241114T213059Z
LAST-MODIFIED:20241114T213509Z
UID:10000556-1733333400-1733340600@nvcapitalreadiness.org
SUMMARY:CRP Grow Your Business Pitch Competition
DESCRIPTION:
URL:https://nvcapitalreadiness.org/event/crp-grow-your-business-pitch-competition/
LOCATION:CSN – NORTH LAS VEGAS CAMPUS\, 3200 E. Cheyenne Avenue Room H107\, North Las Vegas\, NV\, 89030\, United States
ATTACH;FMTTYPE=image/png:https://nvcapitalreadiness.org/wp-content/uploads/2024/11/CRPPITCHCOMPETITION2-01.png
END:VEVENT
END:VCALENDAR